BEGIN:VCALENDAR
VERSION:2.0
PRODID: -//CMS 5.0 //NONSGML //DE
BEGIN:VEVENT
SUMMARY:Jugendleiterversammlung
DESCRIPTION:\n\nhttps://bezirk-luebeck-schwerin.nak-nordost.de/db/551382
UID:551382@bezirk-luebeck-schwerin.nak-nordost.de
LOCATION:
CATEGORIES:Jugend,Kirchenbezirk Lübeck-Schwerin
X-ORGANIZER:
STATUS:CONFIRMED
CLASS:PUBLIC
DTSTART:20260414T173000Z
DTEND:20260414T173000Z
DTSTAMP:20260421T222858Z
CREATED:20251028T105356Z
LAST-MODIFIED:20260303T100529Z
BEGIN:VALARM
UID:7D4A7836-3DD1-11F1-B68A-CF995E29324C
TRIGGER:-PT60M
ACTION:DISPLAY
DESCRIPTION:SUMMARY:Jugendleiterversammlung
END:VALARM
END:VEVENT
END:VCALENDAR
