BEGIN:VCALENDAR
VERSION:2.0
PRODID: -//CMS 5.0 //NONSGML //DE
BEGIN:VEVENT
SUMMARY:Jugendleiterversammlung
DESCRIPTION:\n\nhttps://bezirk-luebeck-schwerin.nak-nordost.de/db/551394
UID:551394@bezirk-luebeck-schwerin.nak-nordost.de
LOCATION:
CATEGORIES:Jugend,Kirchenbezirk Lübeck-Schwerin
X-ORGANIZER:
STATUS:CONFIRMED
CLASS:PUBLIC
DTSTART:20260505T173000Z
DTEND:20260505T173000Z
DTSTAMP:20260421T210323Z
CREATED:20251028T105429Z
LAST-MODIFIED:20260303T100603Z
BEGIN:VALARM
UID:8872F76C-3DC5-11F1-B2E6-E3F15D29324C
TRIGGER:-PT60M
ACTION:DISPLAY
DESCRIPTION:SUMMARY:Jugendleiterversammlung
END:VALARM
END:VEVENT
END:VCALENDAR
