BEGIN:VCALENDAR
VERSION:2.0
PRODID: -//CMS 5.0 //NONSGML //DE
BEGIN:VEVENT
SUMMARY:Jugendleiterversammlung
DESCRIPTION:\n\nhttps://bezirk-luebeck-schwerin.nak-nordost.de/db/551466
UID:551466@bezirk-luebeck-schwerin.nak-nordost.de
LOCATION:
CATEGORIES:Jugend,Kirchenbezirk Lübeck-Schwerin
X-ORGANIZER:
STATUS:CONFIRMED
CLASS:PUBLIC
DTSTART:20261020T173000Z
DTEND:20261020T173000Z
DTSTAMP:20260421T210323Z
CREATED:20251028T110014Z
LAST-MODIFIED:20260303T100925Z
BEGIN:VALARM
UID:88AE2134-3DC5-11F1-867C-A3EA5D29324C
TRIGGER:-PT60M
ACTION:DISPLAY
DESCRIPTION:SUMMARY:Jugendleiterversammlung
END:VALARM
END:VEVENT
END:VCALENDAR
