BEGIN:VCALENDAR
VERSION:2.0
PRODID: -//CMS 5.0 //NONSGML //DE
BEGIN:VEVENT
SUMMARY:Bezirksjugendabend
DESCRIPTION:\n\nhttps://bezirk-luebeck-schwerin.nak-nordost.de/db/551539
UID:551539@bezirk-luebeck-schwerin.nak-nordost.de
LOCATION:
CATEGORIES:Kirchenbezirk Lübeck-Schwerin,Kirchenbezirk Lübeck-Schwerin (Alle Gemeinden),Jugend
X-ORGANIZER:
STATUS:CONFIRMED
CLASS:PUBLIC
DTSTART:20260424T173000Z
DTEND:20260424T173000Z
DTSTAMP:20260421T210321Z
CREATED:20251028T110826Z
LAST-MODIFIED:20251028T110918Z
BEGIN:VALARM
UID:87A7A4D6-3DC5-11F1-A67A-3EF55D29324C
TRIGGER:-PT60M
ACTION:DISPLAY
DESCRIPTION:SUMMARY:Bezirksjugendabend
END:VALARM
END:VEVENT
END:VCALENDAR
