BEGIN:VCALENDAR
VERSION:2.0
PRODID: -//CMS 5.0 //NONSGML //DE
BEGIN:VEVENT
SUMMARY:Jugendchorprobe
DESCRIPTION:\n\nhttps://bezirk-luebeck-schwerin.nak-nordost.de/db/551564
UID:551564@bezirk-luebeck-schwerin.nak-nordost.de
LOCATION:
CATEGORIES:Kirchenbezirk Lübeck-Schwerin (Alle Gemeinden),Jugend,Kirchenbezirk Lübeck-Schwerin
X-ORGANIZER:
STATUS:CONFIRMED
CLASS:PUBLIC
DTSTART:20260828T173000Z
DTEND:20260828T173000Z
DTSTAMP:20260421T210250Z
CREATED:20251028T111123Z
LAST-MODIFIED:20251028T111154Z
BEGIN:VALARM
UID:74EAEE8E-3DC5-11F1-8EAA-4F535E29324C
TRIGGER:-PT60M
ACTION:DISPLAY
DESCRIPTION:SUMMARY:Jugendchorprobe
END:VALARM
END:VEVENT
END:VCALENDAR
