BEGIN:VCALENDAR
VERSION:2.0
PRODID: -//CMS 5.0 //NONSGML //DE
BEGIN:VEVENT
SUMMARY:Jugendchorprobe
DESCRIPTION:\n\nhttps://bezirk-luebeck-schwerin.nak-nordost.de/db/551600
UID:551600@bezirk-luebeck-schwerin.nak-nordost.de
LOCATION:
CATEGORIES:Kirchenbezirk Lübeck-Schwerin (Alle Gemeinden),Jugend,Kirchenbezirk Lübeck-Schwerin
X-ORGANIZER:
STATUS:CONFIRMED
CLASS:PUBLIC
DTSTART:20261211T183000Z
DTEND:20261211T183000Z
DTSTAMP:20260421T210321Z
CREATED:20251028T111824Z
LAST-MODIFIED:20251028T111839Z
BEGIN:VALARM
UID:87A8413E-3DC5-11F1-9E80-17615E29324C
TRIGGER:-PT60M
ACTION:DISPLAY
DESCRIPTION:SUMMARY:Jugendchorprobe
END:VALARM
END:VEVENT
END:VCALENDAR
