BEGIN:VCALENDAR
VERSION:2.0
PRODID: -//CMS 5.0 //NONSGML //DE
BEGIN:VEVENT
SUMMARY:Jugendgottesdienst
DESCRIPTION:\n\nhttps://bezirk-luebeck-schwerin.nak-nordost.de/db/551681
UID:551681@bezirk-luebeck-schwerin.nak-nordost.de
LOCATION:
CATEGORIES:Jugend,Kirchenbezirk Lübeck-Schwerin (Alle Gemeinden),Kirchenbezirk Lübeck-Schwerin
X-ORGANIZER:
STATUS:CONFIRMED
CLASS:PUBLIC
DTSTART:20260830T090000Z
DTEND:20260830T090000Z
DTSTAMP:20260421T210323Z
CREATED:20251028T113028Z
LAST-MODIFIED:20251028T113046Z
BEGIN:VALARM
UID:8896F54A-3DC5-11F1-B77F-F5665E29324C
TRIGGER:-PT60M
ACTION:DISPLAY
DESCRIPTION:SUMMARY:Jugendgottesdienst
END:VALARM
END:VEVENT
END:VCALENDAR
