BEGIN:VCALENDAR
VERSION:2.0
PRODID: -//CMS 5.0 //NONSGML //DE
BEGIN:VEVENT
SUMMARY:Jugendgottesdienst
DESCRIPTION:\n\nhttps://bezirk-luebeck-schwerin.nak-nordost.de/db/551728
UID:551728@bezirk-luebeck-schwerin.nak-nordost.de
LOCATION:
CATEGORIES:Kirchenbezirk Lübeck-Schwerin,Jugend,Kirchenbezirk Lübeck-Schwerin (Alle Gemeinden)
X-ORGANIZER:
STATUS:CONFIRMED
CLASS:PUBLIC
DTSTART:20261213T100000Z
DTEND:20261213T100000Z
DTSTAMP:20260421T210323Z
CREATED:20251028T114956Z
LAST-MODIFIED:20251028T115022Z
BEGIN:VALARM
UID:88CC9AEC-3DC5-11F1-9000-95B65D29324C
TRIGGER:-PT60M
ACTION:DISPLAY
DESCRIPTION:SUMMARY:Jugendgottesdienst
END:VALARM
END:VEVENT
END:VCALENDAR
