BEGIN:VCALENDAR
VERSION:2.0
PRODID: -//CMS 5.0 //NONSGML //DE
BEGIN:VEVENT
SUMMARY:Bezirksjugendabend
DESCRIPTION:\n\nhttps://bezirk-luebeck-schwerin.nak-nordost.de/db/551743
UID:551743@bezirk-luebeck-schwerin.nak-nordost.de
LOCATION:
CATEGORIES:Kirchenbezirk Lübeck-Schwerin,Jugend,Kirchenbezirk Lübeck-Schwerin (Alle Gemeinden)
X-ORGANIZER:
STATUS:CONFIRMED
CLASS:PUBLIC
DTSTART:20260926T173000Z
DTEND:20260926T173000Z
DTSTAMP:20260421T210321Z
CREATED:20251028T115350Z
LAST-MODIFIED:20251124T153800Z
BEGIN:VALARM
UID:87AA1252-3DC5-11F1-AC35-81065E29324C
TRIGGER:-PT60M
ACTION:DISPLAY
DESCRIPTION:SUMMARY:Bezirksjugendabend
END:VALARM
END:VEVENT
END:VCALENDAR
