BEGIN:VCALENDAR
VERSION:2.0
PRODID: -//CMS 5.0 //NONSGML //DE
BEGIN:VEVENT
SUMMARY:Jugend-Freizeit vom 29.03 bis 03.04. in Neumünster
DESCRIPTION:weitere Informationen folgen\n\n\n\nhttps://bezirk-luebeck-s
 chwerin.nak-nordost.de/db/551785
UID:551785@bezirk-luebeck-schwerin.nak-nordost.de
LOCATION:
CATEGORIES:Kirchenbezirk Lübeck-Schwerin (Alle Gemeinden),Jugend,Kirchenbezirk Lübeck-Schwerin
X-ORGANIZER:
STATUS:CONFIRMED
CLASS:PUBLIC
DTSTART:20260329T090000Z
DTEND:20260329T090000Z
DTSTAMP:20260421T224402Z
CREATED:20251028T123411Z
LAST-MODIFIED:20260303T100255Z
BEGIN:VALARM
UID:97EC5662-3DD3-11F1-A3B9-B8645E29324C
TRIGGER:-PT60M
ACTION:DISPLAY
DESCRIPTION:SUMMARY:Jugend-Freizeit vom 29.03 bis 03.04. in Neumünster
END:VALARM
END:VEVENT
END:VCALENDAR
