BEGIN:VCALENDAR
VERSION:2.0
PRODID: -//CMS 5.0 //NONSGML //DE
BEGIN:VEVENT
SUMMARY:Jugendtag für den Apostelbereich
DESCRIPTION:\n\nhttps://bezirk-luebeck-schwerin.nak-nordost.de/db/551933
UID:551933@bezirk-luebeck-schwerin.nak-nordost.de
LOCATION:
CATEGORIES:Kirchenbezirk Lübeck-Schwerin (Alle Gemeinden),Jugend,Kirchenbezirk Lübeck-Schwerin
X-ORGANIZER:
STATUS:CONFIRMED
CLASS:PUBLIC
DTSTART:20260911T060000Z
DTEND:20260913T140000Z
DTSTAMP:20260421T211143Z
CREATED:20251028T142515Z
LAST-MODIFIED:20260303T100829Z
BEGIN:VALARM
UID:B2AD94BE-3DC6-11F1-8915-63065E29324C
TRIGGER:-PT60M
ACTION:DISPLAY
DESCRIPTION:SUMMARY:Jugendtag für den Apostelbereich
END:VALARM
END:VEVENT
END:VCALENDAR
