BEGIN:VCALENDAR
VERSION:2.0
PRODID: -//CMS 5.0 //NONSGML //DE
BEGIN:VEVENT
SUMMARY:Jugend-Weihnachtsfeier
DESCRIPTION:\n\nhttps://bezirk-luebeck-schwerin.nak-nordost.de/db/552005
UID:552005@bezirk-luebeck-schwerin.nak-nordost.de
LOCATION:
CATEGORIES:Kirchenbezirk Lübeck-Schwerin (Alle Gemeinden),Jugend,Kirchenbezirk Lübeck-Schwerin
X-ORGANIZER:
STATUS:CONFIRMED
CLASS:PUBLIC
DTSTART:20261127T183000Z
DTEND:20261127T183000Z
DTSTAMP:20260421T210250Z
CREATED:20251028T144238Z
LAST-MODIFIED:20251028T144357Z
BEGIN:VALARM
UID:75332762-3DC5-11F1-A6F8-E3F15D29324C
TRIGGER:-PT60M
ACTION:DISPLAY
DESCRIPTION:SUMMARY:Jugend-Weihnachtsfeier
END:VALARM
END:VEVENT
END:VCALENDAR
