BEGIN:VCALENDAR
VERSION:2.0
PRODID: -//CMS 5.0 //NONSGML //DE
BEGIN:VEVENT
SUMMARY:Jugendleiterversammlung
DESCRIPTION:\n\nhttps://bezirk-luebeck-schwerin.nak-nordost.de/db/568787
UID:568787@bezirk-luebeck-schwerin.nak-nordost.de
LOCATION:
CATEGORIES:Jugend,Kirchenbezirk Lübeck-Schwerin
X-ORGANIZER:
STATUS:CONFIRMED
CLASS:PUBLIC
DTSTART:20260616T173000Z
DTEND:20260616T173000Z
DTSTAMP:20260421T210400Z
CREATED:20251227T174319Z
LAST-MODIFIED:20260303T100738Z
BEGIN:VALARM
UID:9EE5B912-3DC5-11F1-8C22-82625E29324C
TRIGGER:-PT60M
ACTION:DISPLAY
DESCRIPTION:SUMMARY:Jugendleiterversammlung
END:VALARM
END:VEVENT
END:VCALENDAR
