BEGIN:VCALENDAR
VERSION:2.0
PRODID: -//CMS 5.0 //NONSGML //DE
BEGIN:VEVENT
SUMMARY:Jugendleiterversammlung
DESCRIPTION:\n\nhttps://bezirk-luebeck-schwerin.nak-nordost.de/db/568811
UID:568811@bezirk-luebeck-schwerin.nak-nordost.de
LOCATION:
CATEGORIES:Kirchenbezirk Lübeck-Schwerin,Jugend
X-ORGANIZER:
STATUS:CONFIRMED
CLASS:PUBLIC
DTSTART:20260825T173000Z
DTEND:20260825T173000Z
DTSTAMP:20260421T210321Z
CREATED:20251227T174426Z
LAST-MODIFIED:20260303T101158Z
BEGIN:VALARM
UID:87A984A4-3DC5-11F1-A4FD-F4D25D29324C
TRIGGER:-PT60M
ACTION:DISPLAY
DESCRIPTION:SUMMARY:Jugendleiterversammlung
END:VALARM
END:VEVENT
END:VCALENDAR
