BEGIN:VCALENDAR
VERSION:2.0
PRODID: -//CMS 5.0 //NONSGML //DE
BEGIN:VEVENT
SUMMARY:Jugendgottesdienst
DESCRIPTION:\n\nhttps://bezirk-luebeck-schwerin.nak-nordost.de/db/568836
UID:568836@bezirk-luebeck-schwerin.nak-nordost.de
LOCATION:
CATEGORIES:Kirchenbezirk Lübeck-Schwerin (Alle Gemeinden),Jugend,Kirchenbezirk Lübeck-Schwerin
X-ORGANIZER:
STATUS:CONFIRMED
CLASS:PUBLIC
DTSTART:20260621T090000Z
DTEND:20260621T090000Z
DTSTAMP:20260421T210322Z
CREATED:20251227T175039Z
LAST-MODIFIED:20251227T175108Z
BEGIN:VALARM
UID:880B3A28-3DC5-11F1-A9B1-3EE25D29324C
TRIGGER:-PT60M
ACTION:DISPLAY
DESCRIPTION:SUMMARY:Jugendgottesdienst
END:VALARM
END:VEVENT
END:VCALENDAR
