BEGIN:VCALENDAR
VERSION:2.0
PRODID: -//CMS 5.0 //NONSGML //DE
BEGIN:VEVENT
SUMMARY:Jugendchorprobe
DESCRIPTION:\n\nhttps://bezirk-luebeck-schwerin.nak-nordost.de/db/568848
UID:568848@bezirk-luebeck-schwerin.nak-nordost.de
LOCATION:
CATEGORIES:Kirchenbezirk Lübeck-Schwerin (Alle Gemeinden),Jugend,Kirchenbezirk Lübeck-Schwerin
X-ORGANIZER:
STATUS:CONFIRMED
CLASS:PUBLIC
DTSTART:20260619T173000Z
DTEND:20260619T173000Z
DTSTAMP:20260421T210323Z
CREATED:20251227T175201Z
LAST-MODIFIED:20251227T175227Z
BEGIN:VALARM
UID:885AD006-3DC5-11F1-99E8-061E5E29324C
TRIGGER:-PT60M
ACTION:DISPLAY
DESCRIPTION:SUMMARY:Jugendchorprobe
END:VALARM
END:VEVENT
END:VCALENDAR
