BEGIN:VCALENDAR
VERSION:2.0
PRODID: -//CMS 5.0 //NONSGML //DE
BEGIN:VEVENT
SUMMARY:Kanutour bis 26.07.
DESCRIPTION:\n\nhttps://bezirk-luebeck-schwerin.nak-nordost.de/db/568885
UID:568885@bezirk-luebeck-schwerin.nak-nordost.de
LOCATION:
CATEGORIES:Kirchenbezirk Lübeck-Schwerin,Kirchenbezirk Lübeck-Schwerin (Alle Gemeinden),Jugend
X-ORGANIZER:
STATUS:CONFIRMED
CLASS:PUBLIC
DTSTART:20260724T090000Z
DTEND:20260724T090000Z
DTSTAMP:20260421T210400Z
CREATED:20251227T180146Z
LAST-MODIFIED:20251227T180328Z
BEGIN:VALARM
UID:9EF267A2-3DC5-11F1-8FC7-F4C75D29324C
TRIGGER:-PT60M
ACTION:DISPLAY
DESCRIPTION:SUMMARY:Kanutour bis 26.07.
END:VALARM
END:VEVENT
END:VCALENDAR
