BEGIN:VCALENDAR
VERSION:2.0
PRODID: -//CMS 5.0 //NONSGML //DE
BEGIN:VEVENT
SUMMARY:Mini-Jugendtag mit Ap. Falk
DESCRIPTION:(mit Bezirk Lübeck-Schwerin)\n\n10:00 Uhr Chorprobe\n\nPaus
 e\n\n12:30 Uhr Jugendgottesdienst\n\nanschl. Snacks & Getränke, unters
 chiedliche Programmpunkte\n\n16:00 Uhr offizielles Ende\n\n\n\nhttps://
 bezirk-luebeck-schwerin.nak-nordost.de/db/596591
UID:596591@bezirk-luebeck-schwerin.nak-nordost.de
LOCATION:Niklas Schwarz
CATEGORIES:Kirchenbezirk Kiel,Kirchenbezirk Flensburg,Bezirks-Gottesdienste,Jugend,Kirchenbezirk Hamburg-Nord,Kirchenbezirk Hamburg-West,Kirchenbezirk Lübeck-Schwerin,Gemeinde Kiel-Mitte,Kirchenbezirk Kiel (Alle Gemeinden)
X-ORGANIZER:
STATUS:CONFIRMED
CLASS:PUBLIC
DTSTART:20260503T080000Z
DTEND:20260503T140000Z
DTSTAMP:20260421T205112Z
CREATED:20260326T193857Z
LAST-MODIFIED:20260326T193857Z
BEGIN:VALARM
UID:D4EBB216-3DC3-11F1-AE0D-B4495E29324C
TRIGGER:-PT60M
ACTION:DISPLAY
DESCRIPTION:SUMMARY:Mini-Jugendtag mit Ap. Falk
END:VALARM
END:VEVENT
END:VCALENDAR
